BEGIN:VCALENDAR
VERSION:2.0
PRODID:-//Regionalmanagement Mittelhessen - ECPv6.15.18//NONSGML v1.0//EN
CALSCALE:GREGORIAN
METHOD:PUBLISH
X-WR-CALNAME:Regionalmanagement Mittelhessen
X-ORIGINAL-URL:https://mittelhessen.eu
X-WR-CALDESC:Veranstaltungen für Regionalmanagement Mittelhessen
REFRESH-INTERVAL;VALUE=DURATION:PT1H
X-Robots-Tag:noindex
X-PUBLISHED-TTL:PT1H
BEGIN:VTIMEZONE
TZID:Europe/Berlin
BEGIN:DAYLIGHT
TZOFFSETFROM:+0100
TZOFFSETTO:+0200
TZNAME:CEST
DTSTART:20250330T010000
END:DAYLIGHT
BEGIN:STANDARD
TZOFFSETFROM:+0200
TZOFFSETTO:+0100
TZNAME:CET
DTSTART:20251026T010000
END:STANDARD
BEGIN:DAYLIGHT
TZOFFSETFROM:+0100
TZOFFSETTO:+0200
TZNAME:CEST
DTSTART:20260329T010000
END:DAYLIGHT
BEGIN:STANDARD
TZOFFSETFROM:+0200
TZOFFSETTO:+0100
TZNAME:CET
DTSTART:20261025T010000
END:STANDARD
BEGIN:DAYLIGHT
TZOFFSETFROM:+0100
TZOFFSETTO:+0200
TZNAME:CEST
DTSTART:20270328T010000
END:DAYLIGHT
BEGIN:STANDARD
TZOFFSETFROM:+0200
TZOFFSETTO:+0100
TZNAME:CET
DTSTART:20271031T010000
END:STANDARD
END:VTIMEZONE
BEGIN:VEVENT
DTSTART;TZID=Europe/Berlin:20260612T100000
DTEND;TZID=Europe/Berlin:20260612T110000
DTSTAMP:20260421T171727
CREATED:20260216T132728Z
LAST-MODIFIED:20260312T080357Z
UID:36065-1781258400-1781262000@mittelhessen.eu
SUMMARY:Lernpfad: Agile Führung
DESCRIPTION:Agile Führung bedeutet: Orientierung geben\, Verantwortung teilen und Teams so stärken\, dass sie auch in dynamischen Kontexten handlungsfähig bleiben. In diesem Lernpfad erweiterst du dein Führungsrepertoire um agile Prinzipien und praxiserprobte Werkzeuge. Du reflektierst dein eigenes Führungsverhalten\, lernst konkrete Methoden für Empowerment und Selbstorganisation kennen und entwickelst einen persönlichen Aktionsplan für die Umsetzung im Arbeitsalltag. \nBei der Veranstaltung handelt es sich um einen Lernpfad. Bitte beachten Sie daher den Ablauf und die folgenden Termine. \nDas erwartet dich: \n\nReflexion des eigenen Führungsverhaltens\nPrinzipien und Mindset agiler Führung\nAgile vs. traditionelle Führung: Unterschiede\, Chancen\, Grenzen\nPraktische Werkzeuge für Empowerment und Selbstorganisation\nPersönlicher Aktionsplan und Transfer in den Arbeitsalltag\n\nAblauf: \n\nKick-off (online): 12.06.2026\, 10:00–11:00 Uhr\nSelbstlernphase: Eigenständige E-Learnings auf einer modernen\, intuitiven Plattform\nLive-Session (online): 17.07.2026\, 09:00–13:00 Uhr\n\nZielgruppe:\nFührungskräfte\, die ihr Führungsrepertoire erweitern möchten. \nTeilnehmeranzahl:\nMax. 10 Teilnehmende. \nZertifikat:\nBei aktiver Teilnahme wird ein Zertifikat ausgestellt. \nReferentin Christin Haschke (troodi GmbH):\nChristin Haschke ist seit 2024 Head of People bei der desk.ly GmbH und bringt langjährige Erfahrung aus digitalen und remote Arbeitskontexten mit – insbesondere im SaaS- und Consulting-Start-up-Umfeld. Seit 2021 ist sie zudem als psychologische Coach und Trainerin tätig. Mit fünf Jahren Führungserfahrung verbindet sie People-&-Culture-Expertise mit psychologischem Know-how. Ihre Schwerpunkte: Führungskräfteentwicklung auf allen Unternehmensebenen\, digitale Zusammenarbeit\, Kommunikation und Feedback\, stärkenorientiertes Arbeiten\, Stressbewältigung sowie Beratung zu Recruiting\, Personalentwicklung und Performance Management.
URL:https://mittelhessen.eu/event/innovationskultur-foerdern-kick-off-lernpfad-3-2/
LOCATION:online\, Hessen\, Germany
CATEGORIES:TeamMit Events
ATTACH;FMTTYPE=image/jpeg:https://mittelhessen.eu/wp-content/uploads/2026/02/TeamMit-Event-Lernpfad-AF.jpg
ORGANIZER;CN="CCD - StudiumPlus e. V.":MAILTO:teammit-qualifizierung@ccd-studiumplus.de
END:VEVENT
END:VCALENDAR