BEGIN:VCALENDAR
VERSION:2.0
PRODID:-//Regionalmanagement Mittelhessen - ECPv6.15.18//NONSGML v1.0//EN
CALSCALE:GREGORIAN
METHOD:PUBLISH
X-WR-CALNAME:Regionalmanagement Mittelhessen
X-ORIGINAL-URL:https://mittelhessen.eu
X-WR-CALDESC:Veranstaltungen für Regionalmanagement Mittelhessen
REFRESH-INTERVAL;VALUE=DURATION:PT1H
X-Robots-Tag:noindex
X-PUBLISHED-TTL:PT1H
BEGIN:VTIMEZONE
TZID:Europe/Berlin
BEGIN:DAYLIGHT
TZOFFSETFROM:+0100
TZOFFSETTO:+0200
TZNAME:CEST
DTSTART:20250330T010000
END:DAYLIGHT
BEGIN:STANDARD
TZOFFSETFROM:+0200
TZOFFSETTO:+0100
TZNAME:CET
DTSTART:20251026T010000
END:STANDARD
BEGIN:DAYLIGHT
TZOFFSETFROM:+0100
TZOFFSETTO:+0200
TZNAME:CEST
DTSTART:20260329T010000
END:DAYLIGHT
BEGIN:STANDARD
TZOFFSETFROM:+0200
TZOFFSETTO:+0100
TZNAME:CET
DTSTART:20261025T010000
END:STANDARD
BEGIN:DAYLIGHT
TZOFFSETFROM:+0100
TZOFFSETTO:+0200
TZNAME:CEST
DTSTART:20270328T010000
END:DAYLIGHT
BEGIN:STANDARD
TZOFFSETFROM:+0200
TZOFFSETTO:+0100
TZNAME:CET
DTSTART:20271031T010000
END:STANDARD
END:VTIMEZONE
BEGIN:VEVENT
DTSTART;TZID=Europe/Berlin:20260727T140000
DTEND;TZID=Europe/Berlin:20260727T150000
DTSTAMP:20260421T174414
CREATED:20260216T133516Z
LAST-MODIFIED:20260312T080214Z
UID:36070-1785160800-1785164400@mittelhessen.eu
SUMMARY:Lernpfad: Veränderungskompetenz
DESCRIPTION:Veränderungen in Organisationen sind selten „nur sachlich“ – sie lösen Emotionen aus\, fordern Gewohnheiten heraus und kosten Energie. In diesem Lernpfad entwickelst du Strategien\, um Veränderungssituationen aktiv und konstruktiv zu gestalten: Du verstehst typische emotionale Dynamiken\, lernst mit Belastungen besser umzugehen und bekommst konkrete Ansätze\, um dich selbst und andere im Change-Prozess zu unterstützen. \nBei der Veranstaltung handelt es sich um einen Lernpfad. Bitte beachten Sie daher den Ablauf und die folgenden Termine. \nDas erwartet dich: \n\nEmotionale Veränderungsdynamiken verstehen\nDie emotionale Change-Kurve: Phasen erkennen und einordnen\nTypische Herausforderungen in Veränderungsprozessen\nMaßnahmen und Initiativen für mehr Stabilität und Balance\nAndere im Veränderungsprozess wirksam unterstützen\n\nAblauf: \n\nKick-off (online): 27.07.2026\, 14:00–15:00 Uhr\nSelbstlernphase: Eigenständige E-Learnings auf einer modernen\, intuitiven Plattform\nLive-Session (online): 28.08.2026\, 09:00–13:00 Uhr\n\nZielgruppe:\nAlle Mitarbeitenden\, die sich selbst und andere im Veränderungsprozess unterstützen möchten. \nTeilnehmeranzahl:\nMax. 10 Teilnehmende. \nZertifikat:\nBei aktiver Teilnahme wird ein Zertifikat ausgestellt. \nReferentin Meike Ohm (troodi GmbH):\nMeike Ohm ist Learning & Development Consultant bei der troodi GmbH. Sie verfügt über umfassende Erfahrung in der Konzeption und Umsetzung von Lern- und Entwicklungsformaten in internationalen und interkulturellen Kontexten – u. a. in Spanien\, Brasilien und Deutschland. Ihre Schwerpunkte liegen in der Führungskräfteentwicklung (insbesondere Förderung von Frauen in Führungspositionen) sowie in Kommunikation und Moderation\, Persönlichkeitsentwicklung und interkultureller Teamarbeit.
URL:https://mittelhessen.eu/event/innovationskultur-foerdern-kick-off-lernpfad-3-2-2/
LOCATION:online\, Hessen\, Germany
CATEGORIES:TeamMit Events
ATTACH;FMTTYPE=image/jpeg:https://mittelhessen.eu/wp-content/uploads/2026/02/TeamMit-Event-Lernpfad-VK.jpg
ORGANIZER;CN="CCD - StudiumPlus e. V.":MAILTO:teammit-qualifizierung@ccd-studiumplus.de
END:VEVENT
END:VCALENDAR