BEGIN:VCALENDAR
VERSION:2.0
PRODID:-//Regionalmanagement Mittelhessen - ECPv6.15.18//NONSGML v1.0//EN
CALSCALE:GREGORIAN
METHOD:PUBLISH
X-ORIGINAL-URL:https://mittelhessen.eu
X-WR-CALDESC:Veranstaltungen für Regionalmanagement Mittelhessen
REFRESH-INTERVAL;VALUE=DURATION:PT1H
X-Robots-Tag:noindex
X-PUBLISHED-TTL:PT1H
BEGIN:VTIMEZONE
TZID:Europe/Berlin
BEGIN:DAYLIGHT
TZOFFSETFROM:+0100
TZOFFSETTO:+0200
TZNAME:CEST
DTSTART:20250330T010000
END:DAYLIGHT
BEGIN:STANDARD
TZOFFSETFROM:+0200
TZOFFSETTO:+0100
TZNAME:CET
DTSTART:20251026T010000
END:STANDARD
BEGIN:DAYLIGHT
TZOFFSETFROM:+0100
TZOFFSETTO:+0200
TZNAME:CEST
DTSTART:20260329T010000
END:DAYLIGHT
BEGIN:STANDARD
TZOFFSETFROM:+0200
TZOFFSETTO:+0100
TZNAME:CET
DTSTART:20261025T010000
END:STANDARD
BEGIN:DAYLIGHT
TZOFFSETFROM:+0100
TZOFFSETTO:+0200
TZNAME:CEST
DTSTART:20270328T010000
END:DAYLIGHT
BEGIN:STANDARD
TZOFFSETFROM:+0200
TZOFFSETTO:+0100
TZNAME:CET
DTSTART:20271031T010000
END:STANDARD
END:VTIMEZONE
BEGIN:VEVENT
DTSTART;TZID=Europe/Berlin:20261023T100000
DTEND;TZID=Europe/Berlin:20261023T110000
DTSTAMP:20260421T224231
CREATED:20260216T134928Z
LAST-MODIFIED:20260312T080245Z
UID:36080-1792749600-1792753200@mittelhessen.eu
SUMMARY:Lernpfad: Bewusst und wirkungsvoll kommunizieren
DESCRIPTION:Gute Kommunikation passiert nicht „einfach so“ – sie entsteht\, wenn wir unser eigenes Kommunikationsverhalten verstehen\, reflektieren und gezielt weiterentwickeln. In diesem Lernpfad lernst du typische Fallstricke in Gesprächen kennen und bekommst praxistaugliche Modelle an die Hand\, um Kommunikationssituationen besser zu analysieren und positiv zu beeinflussen. Mit Ansätzen aus der Transaktionsanalyse stärkst du deine Gesprächsqualität\, wirst klarer in deiner Wirkung und übernimmst Verantwortung in der Kommunikation – auch in anspruchsvollen Situationen. \nBei der Veranstaltung handelt es sich um einen Lernpfad. Bitte beachten Sie daher den Ablauf und die folgenden Termine. \nDas erwartet dich: \n\nGrundlagenmodelle: Eisberg- sowie Sender-Empfänger-Modell\nReflexion des eigenen Kommunikationsverhaltens und der eigenen Wirkung\nFunktionsmodell der Transaktionsanalyse zur Analyse von Kommunikationssituationen\nStrategien zur Steigerung der Gesprächsqualität (klar\, wertschätzend\, lösungsorientiert)\nKommunikation bei Verantwortungsübernahme: Haltung\, Klarheit und Verbindlichkeit\n\nAblauf: \n\nKick-off (online): 23.10.2026\, 10:00–11:00 Uhr\nSelbstlernphase: Eigenständige E-Learnings auf einer modernen\, intuitiven Plattform\nLive-Session (online): 25.11.2026\, 09:00–13:00 Uhr\n\nZielgruppe:\nAlle Mitarbeitenden\, die ihr eigenes Kommunikationsverhalten reflektieren und konstruktiv erweitern wollen. \nTeilnehmeranzahl:\nMax. 10 Teilnehmende. \nZertifikat:\nBei aktiver Teilnahme wird ein Zertifikat ausgestellt. \nReferentin Meike Ohm (troodi GmbH):\nMeike Ohm ist Learning & Development Consultant bei der troodi GmbH. Sie verfügt über umfassende Erfahrung in der Konzeption und Umsetzung von Lern- und Entwicklungsformaten in internationalen und interkulturellen Kontexten – u. a. in Spanien\, Brasilien und Deutschland. Ihre Schwerpunkte liegen in der Führungskräfteentwicklung (insbesondere Förderung von Frauen in Führungspositionen) sowie in Kommunikation und Moderation\, Persönlichkeitsentwicklung und interkultureller Teamarbeit.
URL:https://mittelhessen.eu/event/innovationskultur-foerdern-kick-off-lernpfad-3-2-2-3-3/
LOCATION:online\, Hessen\, Germany
CATEGORIES:TeamMit Events
ATTACH;FMTTYPE=image/jpeg:https://mittelhessen.eu/wp-content/uploads/2026/02/TeamMit-Event-Lernpfad-BWK.jpg
ORGANIZER;CN="CCD - StudiumPlus e. V.":MAILTO:teammit-qualifizierung@ccd-studiumplus.de
END:VEVENT
END:VCALENDAR